BEGIN:VCALENDAR
VERSION:2.0
PRODID:-//eventon.com NONSGML v1.0//EN
CALSCALE:GREGORIAN
METHOD:PUBLISH
BEGIN:VEVENT
UID:69e5fcde71c62
DTSTAMP:20260420T101558Z
DTSTART:20251209T210000Z
DTEND:20251209T230000Z
LOCATION:Sherwood Branch Library 117 N. Harrison Street
SUMMARY:Gaming League
DESCRIPTION:Grades 6-12 are invited to Sherwood Branch Library on the 2nd T
 uesday of each month from 4-6 p.m. for Gaming League\,  a group for those w
 ho love games: board games\,  video games\,  card games\,  &amp; more. A ne
 w game will be featured each week\,  but other games will be available[..]\
 nhttps://defiancelibrary.org/events/gaming-league/
URL:https://defiancelibrary.org/events/gaming-league/
END:VEVENT
END:VCALENDAR