BEGIN:VCALENDAR
VERSION:2.0
PRODID:-//eventon.com NONSGML v1.0//EN
CALSCALE:GREGORIAN
METHOD:PUBLISH
BEGIN:VEVENT
UID:69e5ea60729ec
DTSTAMP:20260420T085704Z
DTSTART:20260414T200000Z
DTEND:20260414T220000Z
LOCATION:Sherwood Branch Library 117 N. Harrison Street
SUMMARY:Gaming League
DESCRIPTION:Grades 6-12 are invited to Sherwood Branch Library on the 2nd T
 uesday of each month from 4-6 p.m. for Gaming League\,  a group for those w
 ho love games: board games\,  video games\,  card games\,  &amp; more. A ne
 w game will be featured each week\,  but other games will be available[..]\
 nhttps://defiancelibrary.org/events/gaming-league/var/ri-4.l-L1
URL:https://defiancelibrary.org/events/gaming-league/var/ri-4.l-L1
END:VEVENT
END:VCALENDAR