BEGIN:VCALENDAR
VERSION:2.0
PRODID:-//eventon.com NONSGML v1.0//EN
CALSCALE:GREGORIAN
METHOD:PUBLISH
BEGIN:VEVENT
UID:69e738dbb9028
DTSTAMP:20260421T084411Z
DTSTART:20260413T220000Z
DTEND:20260413T230000Z
LOCATION:Defiance Public Library 320 Fort St.
SUMMARY:Poetry\,  Nah!
DESCRIPTION:April is National Poetry Month! Join Susan Paulus on April 13 a
 t 6PM at Defiance Public Library for a special poetry workshop. Attendees w
 ill examine several styles of poetry\,  and complete their own poem by the 
 end of the session. This free class is open to all adults\,  and no[..]\nht
 tps://defiancelibrary.org/events/poetry-nah/
URL:https://defiancelibrary.org/events/poetry-nah/
END:VEVENT
END:VCALENDAR