BEGIN:VCALENDAR
VERSION:2.0
PRODID:-//eventon.com NONSGML v1.0//EN
CALSCALE:GREGORIAN
METHOD:PUBLISH
BEGIN:VEVENT
UID:69e738dbb87b6
DTSTAMP:20260421T084411Z
DTSTART:20260424T223000Z
DTEND:20260425T035900Z
LOCATION:April&#039;s Greenhouse 1025 US 127
SUMMARY:Plant & Sip Fundraiser
DESCRIPTION:April 24 at 6:30PM at April&#8217;s Greenhouse\,  1025 US 127\,
   Bryan\,  OH. Tickets are on sale now at Johnson Memorial Library for $150
  for a table for four. Only 10 tables will be available\,  so get your tick
 ets soon! Open to adults 21+. Join the Friends of JML for their[..]\nhttps:
 //defiancelibrary.org/events/plant-sip-fundraiser/
URL:https://defiancelibrary.org/events/plant-sip-fundraiser/
END:VEVENT
END:VCALENDAR