BEGIN:VCALENDAR
VERSION:2.0
PRODID:-//eventon.com NONSGML v1.0//EN
CALSCALE:GREGORIAN
METHOD:PUBLISH
BEGIN:VEVENT
UID:69e766389c4fb
DTSTAMP:20260421T115744Z
DTSTART:20260609T213000Z
DTEND:20260609T233000Z
LOCATION:
SUMMARY:Veterans Celebration
DESCRIPTION:Registration is required by calling 419-899-4343. The deadline 
 to register is Saturday\,  May 30. Join the Friends of Sherwood Branch Libr
 ary on Tuesday\,  June 9\,  at the Sherwood VFW (115 Cedar Street) for a sp
 ecial Veterans Celebration in honor of Flag Day and the USA&#8217;s 250th b
 irthday! A free dinner[..]\nhttps://defiancelibrary.org/events/veterans-cel
 ebration/
URL:https://defiancelibrary.org/events/veterans-celebration/
END:VEVENT
END:VCALENDAR